BEGIN:VCALENDAR
VERSION:2.0
PRODID:-//wp-events-plugin.com//7.2.3.1//EN
TZID:Europe/Berlin
X-WR-TIMEZONE:Europe/Berlin
BEGIN:VEVENT
UID:8@affiliate-thinking.com
DTSTART;TZID=Europe/Berlin:20241007T110000
DTEND;TZID=Europe/Berlin:20241007T190000
DTSTAMP:20240527T150336Z
URL:https://affiliate-thinking.com/events/tactixx-mallorca/
SUMMARY:TactixX Mallorca
DESCRIPTION:Hochkarätige Vorträge mit anerkannten Referenten\, Premium-Ne
 tworking vor herausragender Kulisse\, Moderne Tagungsräume in erstklassig
 er Lage\, Hervorragende Konferenzverpflegung
ATTACH;FMTTYPE=image/jpeg:https://affiliate-thinking.com/wp-content/upload
 s/2024/05/TactixX_Mallorca_Icon_400x400.png
CATEGORIES:Affiliate Marketing,Extern,Konferenz
LOCATION:Hipotels Convention Center & Gran Playa de Palma****\, Carrer de l
 as Canyes\, S/N \, Playa de Palma\, Spanien
X-APPLE-STRUCTURED-LOCATION;VALUE=URI;X-ADDRESS=Carrer de las Canyes\, S/N 
 \, Playa de Palma\, Spanien;X-APPLE-RADIUS=100;X-TITLE=Hipotels Convention
  Center & Gran Playa de Palma****:geo:0,0
END:VEVENT
BEGIN:VTIMEZONE
TZID:Europe/Berlin
X-LIC-LOCATION:Europe/Berlin
BEGIN:DAYLIGHT
DTSTART:20240331T030000
TZOFFSETFROM:+0100
TZOFFSETTO:+0200
TZNAME:CEST
END:DAYLIGHT
END:VTIMEZONE
END:VCALENDAR