BEGIN:VCALENDAR
VERSION:2.0
PRODID:-//wp-events-plugin.com//7.2.3.1//EN
TZID:Europe/Berlin
X-WR-TIMEZONE:Europe/Berlin
BEGIN:VEVENT
UID:9@affiliate-thinking.com
DTSTART;TZID=Europe/Berlin:20241118T090000
DTEND;TZID=Europe/Berlin:20241118T190000
DTSTAMP:20240527T142837Z
URL:https://affiliate-thinking.com/events/affiliate-conference/
SUMMARY:Affiliate Conference
DESCRIPTION:Affiliate Marketing ist People`s Business und die Beziehungen u
 nd Gespräche zwischen Affiliates\, Advertisern\, Agenturen und Netzwerken
  sind ein wichtiger Bestandteil der Affiliate-Branche. Neben den Vorträge
 n bieten auch die zahlreichen Networking-Möglichkeiten auf der Affiliate 
 Conference intensive Möglichkeiten der Vernetzung und des Wissensaustausc
 hes.\nAnmeldung: https://tickets.oliro-gmbh.de/buy-ticket/eyJwYWNrYWdlIjo1
 MzcsImV2ZW50IjozN30=
ATTACH;FMTTYPE=image/jpeg:https://affiliate-thinking.com/wp-content/upload
 s/2024/05/Affiliate-Conference_Icon_400x400.jpg
CATEGORIES:Affiliate Marketing,Extern,Konferenz
LOCATION:Hilton Munich Airport\, Terminalstraße Mitte 20\, München\, 8535
 6 \, Deutschland
X-APPLE-STRUCTURED-LOCATION;VALUE=URI;X-ADDRESS=Terminalstraße Mitte 20\, 
 München\, 85356 \, Deutschland;X-APPLE-RADIUS=100;X-TITLE=Hilton Munich A
 irport:geo:0,0
END:VEVENT
BEGIN:VTIMEZONE
TZID:Europe/Berlin
X-LIC-LOCATION:Europe/Berlin
BEGIN:STANDARD
DTSTART:20241027T020000
TZOFFSETFROM:+0200
TZOFFSETTO:+0100
TZNAME:CET
END:STANDARD
END:VTIMEZONE
END:VCALENDAR