BEGIN:VCALENDAR
VERSION:2.0
PRODID:-//wp-events-plugin.com//7.2.3.1//EN
TZID:Europe/Berlin
X-WR-TIMEZONE:Europe/Berlin
BEGIN:VEVENT
UID:28@affiliate-thinking.com
DTSTART;TZID=Europe/Berlin:20260611T140000
DTEND;TZID=Europe/Berlin:20260611T234500
DTSTAMP:20260121T162020Z
URL:https://affiliate-thinking.com/events/13-affiliate-stammtisch-leipzig/
SUMMARY:13. Affiliate Stammtisch Leipzig
DESCRIPTION:Mehr Infos folgen
ATTACH;FMTTYPE=image/jpeg:https://affiliate-thinking.com/wp-content/upload
 s/2026/01/affiliate-stammtisch-leipzig-logo_blue.png
CATEGORIES:Extern,Konferenz
LOCATION:Moritzbastei\, Kurt-Masur-Platz 1\, Leipzig\, Sachsen\, 04109 \, D
 eutschland
X-APPLE-STRUCTURED-LOCATION;VALUE=URI;X-ADDRESS=Kurt-Masur-Platz 1\, Leipzi
 g\, Sachsen\, 04109 \, Deutschland;X-APPLE-RADIUS=100;X-TITLE=Moritzbastei
 :geo:0,0
END:VEVENT
BEGIN:VTIMEZONE
TZID:Europe/Berlin
X-LIC-LOCATION:Europe/Berlin
BEGIN:DAYLIGHT
DTSTART:20260329T030000
TZOFFSETFROM:+0100
TZOFFSETTO:+0200
TZNAME:CEST
END:DAYLIGHT
END:VTIMEZONE
END:VCALENDAR